BEGIN:VCALENDAR
VERSION:2.0
PRODID:-//Museoraitti - ECPv6.15.20//NONSGML v1.0//EN
CALSCALE:GREGORIAN
METHOD:PUBLISH
X-ORIGINAL-URL:https://www.museoraitti.fi
X-WR-CALDESC:Tapahtumat Museoraitti
REFRESH-INTERVAL;VALUE=DURATION:PT1H
X-Robots-Tag:noindex
X-PUBLISHED-TTL:PT1H
BEGIN:VTIMEZONE
TZID:Europe/Helsinki
BEGIN:DAYLIGHT
TZOFFSETFROM:+0200
TZOFFSETTO:+0300
TZNAME:EEST
DTSTART:20250330T010000
END:DAYLIGHT
BEGIN:STANDARD
TZOFFSETFROM:+0300
TZOFFSETTO:+0200
TZNAME:EET
DTSTART:20251026T010000
END:STANDARD
BEGIN:DAYLIGHT
TZOFFSETFROM:+0200
TZOFFSETTO:+0300
TZNAME:EEST
DTSTART:20260329T010000
END:DAYLIGHT
BEGIN:STANDARD
TZOFFSETFROM:+0300
TZOFFSETTO:+0200
TZNAME:EET
DTSTART:20261025T010000
END:STANDARD
BEGIN:DAYLIGHT
TZOFFSETFROM:+0200
TZOFFSETTO:+0300
TZNAME:EEST
DTSTART:20270328T010000
END:DAYLIGHT
BEGIN:STANDARD
TZOFFSETFROM:+0300
TZOFFSETTO:+0200
TZNAME:EET
DTSTART:20271031T010000
END:STANDARD
END:VTIMEZONE
BEGIN:VEVENT
DTSTART;TZID=Europe/Helsinki:20260521T170000
DTEND;TZID=Europe/Helsinki:20260521T183000
DTSTAMP:20260422T175749
CREATED:20260410T103440Z
LAST-MODIFIED:20260410T103440Z
UID:8515-1779382800-1779388200@www.museoraitti.fi
SUMMARY:Pihasoitto: Aimalan väki ja Pirkan Kantele
DESCRIPTION:Pihasoitto: Aimalan väki ja Pirkan Kantele\n\nAimalan väki ja Pirkan Kantele ovat Lempäälän Helkanuoret ry:n piirissä toimivia\, taitavia ja jatkuvasti ohjelmistoaan kehittäviä kanteleyhtyeitä\, joiden toimintaa luotsaa Outi Nieminen. Osa soittajista soittaa molemmissa yhtyeissä\, joiden ohjelmisto ja kantelekokoonpano poikkeavat toisistaan. Yhtyeet suuntaavat pihasoitossa kuultavalla ohjelmistolla esiintymään heinäkuisille Kaustisen kansanmusiikkijuhlille (Kaustinen Folk Music Festival). \nKeväiseen pihasoittoon on vapaa pääsy. Tervetuloa kyläilemään raitille Lempäälän kunnan 160-vuotisjuhlinnan teeman mukaisesti! \nPihasoiton estää vain kova myrsky. Yleisölle on penkkejä\, muttei sateensuojaa. Varustaudu siis sään mukaisesti. \nTapahtuman järjestävät Lempäälän kunnan kulttuuripalvelut ja Lempäälä-Seura ry.
URL:https://www.museoraitti.fi/event/pihasoitto-aimalan-vaki-ja-pirkan-kantele/
LOCATION:Kuokkalan museoraitti\, Kuokkalantie 14\, Lempäälä
END:VEVENT
BEGIN:VEVENT
DTSTART;TZID=Europe/Helsinki:20260523T110000
DTEND;TZID=Europe/Helsinki:20260523T180000
DTSTAMP:20260422T175749
CREATED:20260409T122159Z
LAST-MODIFIED:20260409T122159Z
UID:8506-1779534000-1779559200@www.museoraitti.fi
SUMMARY:Kallenaution kestikievarin avajaispäivä ja Topelius lukumaraton
DESCRIPTION:Kallenaution kestikievarin kesän 2026 avajaispäivä\n23.5.2026 klo 11.00 – 18.00\nKallenaution kestikievari\nVapaa pääsy \nLämpimästi tervetuloa Kallenaution kestikievarimuseon kesäkaudelle 2026.  Museon\, kahvilan ja käsityömyymälän ovet avautuvat 23.5. klo 11.  Tervetuloa! \nAvajaispäivän taustaohjelmana Topelius-​lukumaraton klo 11-13 ja musiikkia. Kestikievarimuseo\, kahvila\, taidenäyttelyt ja käsityömyymälä avoinna avajaispäivänä klo 11-18. \nLisätiedot: Kallenaution kestikievarimuseo\nJohanna Kallenautio: 0407518779 \nKahvila: Sanna Björklund  040-5178043\nHollitupa/Käsityömyymälä: Sanna Björklund  040-5178043\nMuseotiedustelut ja opastukset: Johanna Kallenautio 040-7518779 \nKallenaution kestikievarimuseoon ja taidenäyttelyihin on vapaa pääsy.\nAvoinna 23.5.2026 – 23.8.2026 joka päivä klo 11-18 (juhannusaatto 11-15). \nKallenautiosta löydät museon ja taidenäyttelyiden lisäksi kahvion herkkuineen ja maistuvan keittolounaan\, käsityömyymälän ja MLL Juupajoen ylläpitämän lasten leikkiaitan sekä kotieläinpihan.
URL:https://www.museoraitti.fi/event/kallenaution-kestikievarin-avajaispaiva-ja-topelius-lukumaraton/
LOCATION:Kallenaution kestikievari\, Kallenautiontie 327\, Korkeakoski
END:VEVENT
END:VCALENDAR