BEGIN:VCALENDAR
VERSION:2.0
PRODID:-//Museoraitti - ECPv6.15.20//NONSGML v1.0//EN
CALSCALE:GREGORIAN
METHOD:PUBLISH
X-WR-CALNAME:Museoraitti
X-ORIGINAL-URL:https://www.museoraitti.fi
X-WR-CALDESC:Tapahtumat Museoraitti
REFRESH-INTERVAL;VALUE=DURATION:PT1H
X-Robots-Tag:noindex
X-PUBLISHED-TTL:PT1H
BEGIN:VTIMEZONE
TZID:Europe/Helsinki
BEGIN:DAYLIGHT
TZOFFSETFROM:+0200
TZOFFSETTO:+0300
TZNAME:EEST
DTSTART:20250330T010000
END:DAYLIGHT
BEGIN:STANDARD
TZOFFSETFROM:+0300
TZOFFSETTO:+0200
TZNAME:EET
DTSTART:20251026T010000
END:STANDARD
BEGIN:DAYLIGHT
TZOFFSETFROM:+0200
TZOFFSETTO:+0300
TZNAME:EEST
DTSTART:20260329T010000
END:DAYLIGHT
BEGIN:STANDARD
TZOFFSETFROM:+0300
TZOFFSETTO:+0200
TZNAME:EET
DTSTART:20261025T010000
END:STANDARD
BEGIN:DAYLIGHT
TZOFFSETFROM:+0200
TZOFFSETTO:+0300
TZNAME:EEST
DTSTART:20270328T010000
END:DAYLIGHT
BEGIN:STANDARD
TZOFFSETFROM:+0300
TZOFFSETTO:+0200
TZNAME:EET
DTSTART:20271031T010000
END:STANDARD
END:VTIMEZONE
BEGIN:VEVENT
DTSTART;TZID=Europe/Helsinki:20260514T100000
DTEND;TZID=Europe/Helsinki:20260514T140000
DTSTAMP:20260422T142441
CREATED:20260410T062622Z
LAST-MODIFIED:20260410T062622Z
UID:8509-1778752800-1778767200@www.museoraitti.fi
SUMMARY:Helatorstain takakonttikirppis
DESCRIPTION:Helatorstain takakonttikirppis\nTapahtuman aika: 14.5.2026 klo 10-14\nTapahtuman sijainti: Suomen maatalousmuseo Sarka\, Loimaa \nSarka on perinteisesti järjestänyt helatorstaina Takakonttikirppis -tapahtuman museon piha-alueella. Tapahtuma järjestetään tänä vuonna neljättätoista kertaa! Vuoden 2026 Takakonttikirppis järjestetään 14.5.2026 klo 10-14\, saavu museolle tekemään löytöjä tai myymään pois vanhoja aarteitasi! \nTarkemmat tapahtumatiedot päivittyvät huhtikuun aikana. \nMyyntipaikkojen varaus on avattu – Ilmoittaudu mukaan myyjäksi!\nTakakonttikirppis -tapahtumaan pääsee mukaan myyjäksi ennakkoilmoittautumisen kautta. Ilmoittautuminen on avoinna 11.5. asti tai niin kauan kun paikkoja riittää. \nMyyntipaikan hinta on 15 €/ parkkiruutu ja paikka maksetaan paikan päällä. Myyjille lähetetään erikseen ohjeet saapumisesta ja maksamisesta lähempänä tapahtumaa. \nIlmoittautumiset:\nJenna Kemppainen\nAsiakaspalveluvastaava\nSähköpostiosoite:info@sarka.fi\nPuhelinnumero:02 763 7700
URL:https://www.museoraitti.fi/event/helatorstain-takakonttikirppis/
LOCATION:Suomen maatalousmuseo Sarka\, Vanhakirkontie 383\, Loimaa
ATTACH;FMTTYPE=image/jpeg:https://www.museoraitti.fi/wp-content/uploads/2026/04/DSC_6208-scaled.jpg
END:VEVENT
END:VCALENDAR